BEGIN:VCALENDAR
VERSION:2.0
PRODID:spatie/icalendar-generator
DESCRIPTION:Evenementen van Slijterij Bie de Bolle
X-WR-CALDESC:Evenementen van Slijterij Bie de Bolle
REFRESH-INTERVAL;VALUE=DURATION:PT1440M
X-PUBLISHED-TTL:PT1440M
BEGIN:VTIMEZONE
TZID:Etc/GMT-2
BEGIN:STANDARD
DTSTART:20230725T200000Z
TZOFFSETFROM:+0200
TZOFFSETTO:+0200
END:STANDARD
END:VTIMEZONE
BEGIN:VTIMEZONE
TZID:UTC
BEGIN:STANDARD
DTSTART:20250728T232201Z
TZOFFSETFROM:+0000
TZOFFSETTO:+0000
END:STANDARD
END:VTIMEZONE
BEGIN:VEVENT
UID:14-13
DTSTAMP:20260424T232201Z
SUMMARY:20 april: Whisky proeverij \"peated\"
LOCATION:Slijterij Bie de Bolle Dam 1a  Goes Zeeland 4461HV
ORGANIZER;CN=Marijke Nodelijk:MAILTO:marijke@snoozje.nl
DTSTART;TZID=Etc/GMT-2:20240420T200000
DTEND;TZID=Etc/GMT-2:20240420T223000
X-ALT-DESC;FMTTYPE=TEXT/HTML:7 peated whisky's incl. hapjes Kosten: € 30\
 ,- p.p. Max: 20 deelnemers
CATEGORIES:Proeverijen
URL;VALUE=URI:https://biedebolle.nl/mc-events/20-april-whisky-proeverij-pea
 ted/
METHOD:PUBLISH
END:VEVENT
END:VCALENDAR