BEGIN:VCALENDAR
VERSION:2.0
PRODID:spatie/icalendar-generator
DESCRIPTION:Evenementen van Slijterij Bie de Bolle
X-WR-CALDESC:Evenementen van Slijterij Bie de Bolle
REFRESH-INTERVAL;VALUE=DURATION:PT1440M
X-PUBLISHED-TTL:PT1440M
BEGIN:VTIMEZONE
TZID:Etc/GMT-2
BEGIN:STANDARD
DTSTART:20230925T200000Z
TZOFFSETFROM:+0200
TZOFFSETTO:+0200
END:STANDARD
END:VTIMEZONE
BEGIN:VTIMEZONE
TZID:UTC
BEGIN:STANDARD
DTSTART:20250725T124514Z
TZOFFSETFROM:+0000
TZOFFSETTO:+0000
END:STANDARD
END:VTIMEZONE
BEGIN:VEVENT
UID:21-20
DTSTAMP:20260421T124514Z
SUMMARY:Independent whisky bottlers
LOCATION:Slijterij Bie de Bolle Dam 1a  Goes Zeeland 4461HV
ORGANIZER;CN=Marijke Nodelijk:MAILTO:marijke@snoozje.nl
DTSTART;TZID=Etc/GMT-2:20240621T200000
DTEND;TZID=Etc/GMT-2:20240621T223000
X-ALT-DESC;FMTTYPE=TEXT/HTML:7 whisky's incl. hapjes Kosten: € 30\,- p.p
CATEGORIES:Proeverijen
URL;VALUE=URI:https://biedebolle.nl/mc-events/independent-whisky-bottlers/
METHOD:PUBLISH
END:VEVENT
END:VCALENDAR