BEGIN:VCALENDAR
VERSION:2.0
PRODID:spatie/icalendar-generator
DESCRIPTION:Evenementen van Slijterij Bie de Bolle
X-WR-CALDESC:Evenementen van Slijterij Bie de Bolle
REFRESH-INTERVAL;VALUE=DURATION:PT1440M
X-PUBLISHED-TTL:PT1440M
BEGIN:VTIMEZONE
TZID:Etc/GMT-2
BEGIN:STANDARD
DTSTART:20231212T200000Z
TZOFFSETFROM:+0200
TZOFFSETTO:+0200
END:STANDARD
END:VTIMEZONE
BEGIN:VTIMEZONE
TZID:UTC
BEGIN:STANDARD
DTSTART:20250729T120424Z
TZOFFSETFROM:+0000
TZOFFSETTO:+0000
END:STANDARD
END:VTIMEZONE
BEGIN:VEVENT
UID:25-24
DTSTAMP:20260425T120424Z
SUMMARY:Bier proeverij
LOCATION:Slijterij Bie de Bolle Dam 1a  Goes Zeeland 4461HV
ORGANIZER;CN=Marijke Nodelijk:MAILTO:marijke@snoozje.nl
DTSTART;TZID=Etc/GMT-2:20240907T200000
DTEND;TZID=Etc/GMT-2:20240907T225300
X-ALT-DESC;FMTTYPE=TEXT/HTML:Bierproeverij 7 verschillende bieren incl. hap
 jes Kosten: € 30\,- p.p.
CATEGORIES:Proeverijen
URL;VALUE=URI:https://biedebolle.nl/mc-events/bier-proeverij/
METHOD:PUBLISH
END:VEVENT
END:VCALENDAR